BEGIN:VCALENDAR
VERSION:2.0
PRODID:-//InvisionCommunity Events 4.7.23//EN
METHOD:PUBLISH
CALSCALE:GREGORIAN
REFRESH-INTERVAL:PT15M
X-PUBLISHED-TTL:PT15M
X-WR-CALNAME:Pogdesign
NAME:Pogdesign
BEGIN:VTIMEZONE
TZID:Europe/London
TZURL:http://tzurl.org/zoneinfo/Europe/London
X-LIC-LOCATION:Europe/London
BEGIN:DAYLIGHT
TZOFFSETFROM:+0000
TZOFFSETTO:+0100
TZNAME:BST
DTSTART:20210328T020000Z
RRULE:FREQ=YEARLY;BYMONTH=3;BYDAY=-1SU
END:DAYLIGHT
BEGIN:STANDARD
TZOFFSETFROM:+0100
TZOFFSETTO:+0000
TZNAME:GMT
DTSTART:20211031T020000Z
RRULE:FREQ=YEARLY;BYMONTH=10;BYDAY=-1SU
END:STANDARD
END:VTIMEZONE
BEGIN:VEVENT
SUMMARY:Brand New Cherry Flavor 1x6 - Milk Bath
DTSTAMP:20210805T040004Z
SEQUENCE:0
UID:130542-3-841ebed20eb198c4569419e99b7bf40a@themidnightzone.com
ORGANIZER;CN="Midnight":midnight@themidnightzone.com
DESCRIPTION:Mary goes deeper to realize an uncompromising vision. Borosh
	ares her tale. Lisa perks up. Lou pushes for an ending\, butwill he get th
	e one he wants?
DTSTART:20210818T235900Z
DTEND:20210819T005900Z
END:VEVENT
END:VCALENDAR
