BEGIN:VCALENDAR
VERSION:2.0
PRODID:-//InvisionCommunity Events 4.7.23//EN
METHOD:PUBLISH
CALSCALE:GREGORIAN
REFRESH-INTERVAL:PT15M
X-PUBLISHED-TTL:PT15M
X-WR-CALNAME:Pogdesign
NAME:Pogdesign
BEGIN:VTIMEZONE
TZID:Europe/London
TZURL:http://tzurl.org/zoneinfo/Europe/London
X-LIC-LOCATION:Europe/London
BEGIN:DAYLIGHT
TZOFFSETFROM:+0000
TZOFFSETTO:+0100
TZNAME:BST
DTSTART:20210328T020000Z
RRULE:FREQ=YEARLY;BYMONTH=3;BYDAY=-1SU
END:DAYLIGHT
BEGIN:STANDARD
TZOFFSETFROM:+0100
TZOFFSETTO:+0000
TZNAME:GMT
DTSTART:20211031T020000Z
RRULE:FREQ=YEARLY;BYMONTH=10;BYDAY=-1SU
END:STANDARD
END:VTIMEZONE
BEGIN:VEVENT
SUMMARY:Modern Love 2x6 - In the Waiting Room of Estranged Spouses
DTSTAMP:20210805T040004Z
SEQUENCE:0
UID:130545-3-841ebed20eb198c4569419e99b7bf40a@themidnightzone.com
ORGANIZER;CN="Midnight":midnight@themidnightzone.com
DESCRIPTION:&amp\;quot:A few months later\, I was in the psychologist'sr
	eception room\, paying for my fourth really good cry\, when awoman carryin
	g a child walked in. I didn't recognize her atfirst\, and then I remembere
	d her face. 'Are you the wife ofthe guy my wife is having an affair with- 
	I asked tactlessly.'Yeah'\, she said. 'But we're not together anymore'\".
DTSTART:20210818T235900Z
DTEND:20210819T002900Z
END:VEVENT
END:VCALENDAR
