BEGIN:VCALENDAR
VERSION:2.0
PRODID:-//InvisionCommunity Events 4.7.23//EN
METHOD:PUBLISH
CALSCALE:GREGORIAN
REFRESH-INTERVAL:PT15M
X-PUBLISHED-TTL:PT15M
X-WR-CALNAME:Pogdesign
NAME:Pogdesign
BEGIN:VTIMEZONE
TZID:Europe/London
TZURL:http://tzurl.org/zoneinfo/Europe/London
X-LIC-LOCATION:Europe/London
BEGIN:DAYLIGHT
TZOFFSETFROM:+0000
TZOFFSETTO:+0100
TZNAME:BST
DTSTART:20210328T020000Z
RRULE:FREQ=YEARLY;BYMONTH=3;BYDAY=-1SU
END:DAYLIGHT
BEGIN:STANDARD
TZOFFSETFROM:+0100
TZOFFSETTO:+0000
TZNAME:GMT
DTSTART:20211031T020000Z
RRULE:FREQ=YEARLY;BYMONTH=10;BYDAY=-1SU
END:STANDARD
END:VTIMEZONE
BEGIN:VEVENT
SUMMARY:DC's Legends of Tomorrow 6x13 - Silence of the Sonograms
DTSTAMP:20210809T040004Z
SEQUENCE:0
UID:130637-3-841ebed20eb198c4569419e99b7bf40a@themidnightzone.com
ORGANIZER;CN="Midnight":midnight@themidnightzone.com
DESCRIPTION:With the Legends on high alert with their unwanted guest int
	heir custody\, Ava is tasked with the interrogation while Nateand Sara wat
	ch. Rory is struggling with the terrible pain inhis head and Gary tries to
	 help to manage it the best he can.Meanwhile\, Zari enlists Astra and Spoo
	ner's help to figurewhat is going on with Constantine.
DTSTART:20210822T200000Z
DTEND:20210822T210000Z
END:VEVENT
END:VCALENDAR
