BEGIN:VCALENDAR
VERSION:2.0
PRODID:-//InvisionCommunity Events 4.7.23//EN
METHOD:PUBLISH
CALSCALE:GREGORIAN
REFRESH-INTERVAL:PT15M
X-PUBLISHED-TTL:PT15M
X-WR-CALNAME:Pogdesign
NAME:Pogdesign
BEGIN:VTIMEZONE
TZID:Europe/London
TZURL:http://tzurl.org/zoneinfo/Europe/London
X-LIC-LOCATION:Europe/London
BEGIN:DAYLIGHT
TZOFFSETFROM:+0000
TZOFFSETTO:+0100
TZNAME:BST
DTSTART:20210328T020000Z
RRULE:FREQ=YEARLY;BYMONTH=3;BYDAY=-1SU
END:DAYLIGHT
BEGIN:STANDARD
TZOFFSETFROM:+0100
TZOFFSETTO:+0000
TZNAME:GMT
DTSTART:20211031T020000Z
RRULE:FREQ=YEARLY;BYMONTH=10;BYDAY=-1SU
END:STANDARD
END:VTIMEZONE
BEGIN:VEVENT
SUMMARY:DC's Legends of Tomorrow 6x15 - The Fungus Amongus
DTSTAMP:20210823T040005Z
SEQUENCE:0
UID:130847-3-841ebed20eb198c4569419e99b7bf40a@themidnightzone.com
ORGANIZER;CN="Midnight":midnight@themidnightzone.com
DESCRIPTION:When Sara realizes Bishop's plan\, Ava convinces Sara to all
	owthe Legends to make exception to the rules to help fight back.Behrad com
	es up with an interesting plan\, that allows Sara toconnect with an old fr
	iend. Meanwhile\, amidst a battle Saraand Ava make an important decision b
	ut need the help of theteam to pull it off.
DTSTART:20210905T200000Z
DTEND:20210905T210000Z
END:VEVENT
END:VCALENDAR
