BEGIN:VCALENDAR
VERSION:2.0
PRODID:-//InvisionCommunity Events 4.7.23//EN
METHOD:PUBLISH
CALSCALE:GREGORIAN
REFRESH-INTERVAL:PT15M
X-PUBLISHED-TTL:PT15M
X-WR-CALNAME:Pogdesign
NAME:Pogdesign
BEGIN:VTIMEZONE
TZID:Europe/London
TZURL:http://tzurl.org/zoneinfo/Europe/London
X-LIC-LOCATION:Europe/London
BEGIN:DAYLIGHT
TZOFFSETFROM:+0000
TZOFFSETTO:+0100
TZNAME:BST
DTSTART:20210328T020000Z
RRULE:FREQ=YEARLY;BYMONTH=3;BYDAY=-1SU
END:DAYLIGHT
BEGIN:STANDARD
TZOFFSETFROM:+0100
TZOFFSETTO:+0000
TZNAME:GMT
DTSTART:20211031T020000Z
RRULE:FREQ=YEARLY;BYMONTH=10;BYDAY=-1SU
END:STANDARD
END:VTIMEZONE
BEGIN:VEVENT
SUMMARY:Supergirl 6x12 - Blind Spots
DTSTAMP:20210908T040005Z
SEQUENCE:0
UID:131107-3-841ebed20eb198c4569419e99b7bf40a@themidnightzone.com
ORGANIZER;CN="Midnight":midnight@themidnightzone.com
DESCRIPTION:Kelly is horrified when the Ormfell building implodes\,injur
	ing many in the community\, including Joey. However\, herhorror quickly tu
	rns to frustration when she realizes that thehospital is overwhelmed\, peo
	ple are getting sicker\, and noone is coming to help - including Supergirl
	 who is busyfighting Nyxly. Knowing that she can make a difference\, Kelly
	embraces her power and fully steps into her role as Guardian.Joined by Sup
	ergirl\, Alex\, Diggle and team\, Guardian leadsthe way to restoring justi
	ce to the fallen community.
DTSTART:20210921T210000Z
DTEND:20210921T220000Z
END:VEVENT
END:VCALENDAR
