BEGIN:VCALENDAR
VERSION:2.0
PRODID:-//InvisionCommunity Events 4.7.23//EN
METHOD:PUBLISH
CALSCALE:GREGORIAN
REFRESH-INTERVAL:PT15M
X-PUBLISHED-TTL:PT15M
X-WR-CALNAME:Pogdesign
NAME:Pogdesign
BEGIN:VTIMEZONE
TZID:Europe/London
TZURL:http://tzurl.org/zoneinfo/Europe/London
X-LIC-LOCATION:Europe/London
BEGIN:DAYLIGHT
TZOFFSETFROM:+0000
TZOFFSETTO:+0100
TZNAME:BST
DTSTART:20210328T020000Z
RRULE:FREQ=YEARLY;BYMONTH=3;BYDAY=-1SU
END:DAYLIGHT
BEGIN:STANDARD
TZOFFSETFROM:+0100
TZOFFSETTO:+0000
TZNAME:GMT
DTSTART:20211031T020000Z
RRULE:FREQ=YEARLY;BYMONTH=10;BYDAY=-1SU
END:STANDARD
END:VTIMEZONE
BEGIN:VEVENT
SUMMARY:The Goldbergs 9x2 - Horse Play
DTSTAMP:20210916T040005Z
SEQUENCE:0
UID:131327-3-841ebed20eb198c4569419e99b7bf40a@themidnightzone.com
ORGANIZER;CN="Midnight":midnight@themidnightzone.com
DESCRIPTION:Adam is ready to leave the struggles of his high school year
	sbehind him but is distraught to discover he's been waitlistedat NYU while
	 his girlfriend Brea has been accepted\, along withhis mom Beverly - who s
	urprises everyone by admitting sheapplied to the same school. Adam courts 
	the NYU dean ofadmissions\, hoping she will change her mind on his deferra
	l.Meanwhile\, Erica\, Geoff\, Barry and Joanne create their ownplan to con
	vince Geoff's dad\, Lou\, that Erica had nothing todo with a past incident
	 involving his prized porcelain horses.
DTSTART:20210929T200000Z
DTEND:20210929T203000Z
END:VEVENT
END:VCALENDAR
