BEGIN:VCALENDAR
VERSION:2.0
PRODID:-//InvisionCommunity Events 4.7.23//EN
METHOD:PUBLISH
CALSCALE:GREGORIAN
REFRESH-INTERVAL:PT15M
X-PUBLISHED-TTL:PT15M
X-WR-CALNAME:Pogdesign
NAME:Pogdesign
BEGIN:VTIMEZONE
TZID:Europe/London
TZURL:http://tzurl.org/zoneinfo/Europe/London
X-LIC-LOCATION:Europe/London
BEGIN:DAYLIGHT
TZOFFSETFROM:+0000
TZOFFSETTO:+0100
TZNAME:BST
DTSTART:20210328T020000Z
RRULE:FREQ=YEARLY;BYMONTH=3;BYDAY=-1SU
END:DAYLIGHT
BEGIN:STANDARD
TZOFFSETFROM:+0100
TZOFFSETTO:+0000
TZNAME:GMT
DTSTART:20211031T020000Z
RRULE:FREQ=YEARLY;BYMONTH=10;BYDAY=-1SU
END:STANDARD
END:VTIMEZONE
BEGIN:VEVENT
SUMMARY:A League of Their Own 16x8 - Series 16\, Episode 8
DTSTAMP:20210923T040005Z
SEQUENCE:0
UID:131509-3-841ebed20eb198c4569419e99b7bf40a@themidnightzone.com
ORGANIZER;CN="Midnight":midnight@themidnightzone.com
DESCRIPTION:Jamie and Freddie are joined by Rugby Union star Joe Marler\
	,presenter Kelly Somers\, comedian Joel Dommett\, professionalgadabouts Da
	vid Walliams and Jonathan Ross\, and - to make surehe's doing his job prop
	erly - Romesh's mum Shanthi Ranganathan.This week the teams take part in a
	 pillow fight\, have a go ona pop cycle\, and play a game of Danger Dodgeb
	all.
DTSTART:20211007T170000Z
DTEND:20211007T180000Z
END:VEVENT
END:VCALENDAR
