BEGIN:VCALENDAR
VERSION:2.0
PRODID:-//InvisionCommunity Events 4.7.23//EN
METHOD:PUBLISH
CALSCALE:GREGORIAN
REFRESH-INTERVAL:PT15M
X-PUBLISHED-TTL:PT15M
X-WR-CALNAME:Pogdesign
NAME:Pogdesign
BEGIN:VTIMEZONE
TZID:Europe/London
TZURL:http://tzurl.org/zoneinfo/Europe/London
X-LIC-LOCATION:Europe/London
BEGIN:DAYLIGHT
TZOFFSETFROM:+0000
TZOFFSETTO:+0100
TZNAME:BST
DTSTART:20210328T020000Z
RRULE:FREQ=YEARLY;BYMONTH=3;BYDAY=-1SU
END:DAYLIGHT
BEGIN:STANDARD
TZOFFSETFROM:+0100
TZOFFSETTO:+0000
TZNAME:GMT
DTSTART:20211031T020000Z
RRULE:FREQ=YEARLY;BYMONTH=10;BYDAY=-1SU
END:STANDARD
END:VTIMEZONE
BEGIN:VEVENT
SUMMARY:Big Sky 2x2 - Huckleberry
DTSTAMP:20210930T200002Z
SEQUENCE:0
UID:131708-3-841ebed20eb198c4569419e99b7bf40a@themidnightzone.com
ORGANIZER;CN="Midnight":midnight@themidnightzone.com
DESCRIPTION:Cassie takes on a missing person case brought in by a concer
	nedgirlfriend while Jenny continues to search for clues relatingto the mys
	terious truck accident. As they check in with eachother\, the two eventual
	ly realize they are working the samecase. However\, they are not the only 
	ones looking for answersas a new face comes to town hellbent on taking wha
	t shebelieves is rightfully hers. Meanwhile\, Max\, Harper\, Madisonand Br
	idger are at odds over the stolen money.
DTSTART:20211007T220000Z
DTEND:20211007T230000Z
END:VEVENT
END:VCALENDAR
