BEGIN:VCALENDAR
VERSION:2.0
PRODID:-//InvisionCommunity Events 4.7.23//EN
METHOD:PUBLISH
CALSCALE:GREGORIAN
REFRESH-INTERVAL:PT15M
X-PUBLISHED-TTL:PT15M
X-WR-CALNAME:Pogdesign
NAME:Pogdesign
BEGIN:VTIMEZONE
TZID:Europe/London
TZURL:http://tzurl.org/zoneinfo/Europe/London
X-LIC-LOCATION:Europe/London
BEGIN:DAYLIGHT
TZOFFSETFROM:+0000
TZOFFSETTO:+0100
TZNAME:BST
DTSTART:20210328T020000Z
RRULE:FREQ=YEARLY;BYMONTH=3;BYDAY=-1SU
END:DAYLIGHT
BEGIN:STANDARD
TZOFFSETFROM:+0100
TZOFFSETTO:+0000
TZNAME:GMT
DTSTART:20211031T020000Z
RRULE:FREQ=YEARLY;BYMONTH=10;BYDAY=-1SU
END:STANDARD
END:VTIMEZONE
BEGIN:VEVENT
SUMMARY:Big Sky 2x3 - You Have to Play Along
DTSTAMP:20211001T040004Z
SEQUENCE:0
UID:131797-3-841ebed20eb198c4569419e99b7bf40a@themidnightzone.com
ORGANIZER;CN="Midnight":midnight@themidnightzone.com
DESCRIPTION:After officially teaming up\, Jenny and Cassie sit down with
	Tubb who reveals that this one goes far beyond theirjurisdiction. Realizin
	g Travis may be a man on the inside\,Jenny reaches out for intel and learn
	s the cartel is involved.With Tonya still missing and fearing the worst\, 
	Cassie andJenny kick their search into high gear. Meanwhile\, the kids'pla
	n continues to fall apart\, with secrets and schemingthreatening to land t
	hem in hot water.
DTSTART:20211014T220000Z
DTEND:20211014T230000Z
END:VEVENT
END:VCALENDAR
