BEGIN:VCALENDAR
VERSION:2.0
PRODID:-//InvisionCommunity Events 4.7.23//EN
METHOD:PUBLISH
CALSCALE:GREGORIAN
REFRESH-INTERVAL:PT15M
X-PUBLISHED-TTL:PT15M
X-WR-CALNAME:Pogdesign
NAME:Pogdesign
BEGIN:VTIMEZONE
TZID:Europe/London
TZURL:http://tzurl.org/zoneinfo/Europe/London
X-LIC-LOCATION:Europe/London
BEGIN:DAYLIGHT
TZOFFSETFROM:+0000
TZOFFSETTO:+0100
TZNAME:BST
DTSTART:20210328T020000Z
RRULE:FREQ=YEARLY;BYMONTH=3;BYDAY=-1SU
END:DAYLIGHT
BEGIN:STANDARD
TZOFFSETFROM:+0100
TZOFFSETTO:+0000
TZNAME:GMT
DTSTART:20211031T020000Z
RRULE:FREQ=YEARLY;BYMONTH=10;BYDAY=-1SU
END:STANDARD
END:VTIMEZONE
BEGIN:VEVENT
SUMMARY:Counting Cars 10x6 - Alice and the Beast
DTSTAMP:20211013T040004Z
SEQUENCE:0
UID:132048-3-841ebed20eb198c4569419e99b7bf40a@themidnightzone.com
ORGANIZER;CN="Midnight":midnight@themidnightzone.com
DESCRIPTION:The Count's Kustoms Crew hits the road to hand deliver Alice
	Cooper's newly restored 1963 Studebaker Avanti\, and he blowstheir mind wi
	th his amazing car collection. Back at the shop\,Ryan makes a Vietnam vet'
	s Indian Trike dreams come true\, andHorny Mike attempts to create the wor
	ld's biggest\, baddestmonster-themed motorcycle.
DTSTART:20211020T220000Z
DTEND:20211020T223000Z
END:VEVENT
END:VCALENDAR
