BEGIN:VCALENDAR
VERSION:2.0
PRODID:-//InvisionCommunity Events 4.7.23//EN
METHOD:PUBLISH
CALSCALE:GREGORIAN
REFRESH-INTERVAL:PT15M
X-PUBLISHED-TTL:PT15M
X-WR-CALNAME:Pogdesign
NAME:Pogdesign
BEGIN:VTIMEZONE
TZID:Europe/London
TZURL:http://tzurl.org/zoneinfo/Europe/London
X-LIC-LOCATION:Europe/London
BEGIN:DAYLIGHT
TZOFFSETFROM:+0000
TZOFFSETTO:+0100
TZNAME:BST
DTSTART:20210328T020000Z
RRULE:FREQ=YEARLY;BYMONTH=3;BYDAY=-1SU
END:DAYLIGHT
BEGIN:STANDARD
TZOFFSETFROM:+0100
TZOFFSETTO:+0000
TZNAME:GMT
DTSTART:20211031T020000Z
RRULE:FREQ=YEARLY;BYMONTH=10;BYDAY=-1SU
END:STANDARD
END:VTIMEZONE
BEGIN:VEVENT
SUMMARY:The Conners 4x5 - Peter Pan\, The Backup Plan\, Adventures i
	nBabysitting\, and A River Runs Through It
DTSTAMP:20211014T040005Z
SEQUENCE:0
UID:132095-3-841ebed20eb198c4569419e99b7bf40a@themidnightzone.com
ORGANIZER;CN="Midnight":midnight@themidnightzone.com
DESCRIPTION:The Conner home is decked out for Halloween despite the leak
	 inthe roof that forces Dan and Louise to cancel their honeymoon.But all i
	s not lost when Becky surprises the newlyweds andtakes them on a virtual a
	dventure around the world. Meanwhile\,Darlene continues her spiritual jour
	ney\, and Harris introducesAldo's children to the family\, where more tric
	ks than treatsawait.
DTSTART:20211027T200000Z
DTEND:20211027T203000Z
END:VEVENT
END:VCALENDAR
