BEGIN:VCALENDAR
VERSION:2.0
PRODID:-//InvisionCommunity Events 4.7.23//EN
METHOD:PUBLISH
CALSCALE:GREGORIAN
REFRESH-INTERVAL:PT15M
X-PUBLISHED-TTL:PT15M
X-WR-CALNAME:At My TV
NAME:At My TV
BEGIN:VTIMEZONE
TZID:Europe/London
TZURL:http://tzurl.org/zoneinfo/Europe/London
X-LIC-LOCATION:Europe/London
BEGIN:DAYLIGHT
TZOFFSETFROM:+0000
TZOFFSETTO:+0100
TZNAME:BST
DTSTART:20210328T020000Z
RRULE:FREQ=YEARLY;BYMONTH=3;BYDAY=-1SU
END:DAYLIGHT
BEGIN:STANDARD
TZOFFSETFROM:+0100
TZOFFSETTO:+0000
TZNAME:GMT
DTSTART:20211031T020000Z
RRULE:FREQ=YEARLY;BYMONTH=10;BYDAY=-1SU
END:STANDARD
END:VTIMEZONE
BEGIN:VEVENT
SUMMARY:The Graham Norton Show 29x6 - Judi Dench\, Jamie Dornan\, Sa
	lmaHayek\, Tinie Tempah\, Bruce Springsteen\, President BarackObama\, Jesy
	 Nelson
DTSTAMP:20211025T155815Z
SEQUENCE:0
UID:132553-2-841ebed20eb198c4569419e99b7bf40a@themidnightzone.com
ORGANIZER;CN="Midnight":midnight@themidnightzone.com
DESCRIPTION:Joining Graham tonight: Dame Judi Dench and Jamie Dornan\,to
	gether in Kenneth Branagh's critically acclaimed Belfast\;Hollywood star S
	alma Hayek\, making her Marvel debut inEternals\; British rapper Tinie Tem
	pah\, hosting property showExtraordinary Extensions\; and American icons B
	ruce Springsteenand President Barack Obama\, promoting their book Renegade
	s:Born in the USA. With music from Jesy Nelson\, who performs hernew singl
	e Boyz.
DTSTART:20211029T213500Z
DTEND:20211029T222500Z
END:VEVENT
END:VCALENDAR
