BEGIN:VCALENDAR
VERSION:2.0
PRODID:-//InvisionCommunity Events 4.7.23//EN
METHOD:PUBLISH
CALSCALE:GREGORIAN
REFRESH-INTERVAL:PT15M
X-PUBLISHED-TTL:PT15M
X-WR-CALNAME:At My TV
NAME:At My TV
BEGIN:VTIMEZONE
TZID:Europe/London
TZURL:http://tzurl.org/zoneinfo/Europe/London
X-LIC-LOCATION:Europe/London
BEGIN:DAYLIGHT
TZOFFSETFROM:+0000
TZOFFSETTO:+0100
TZNAME:BST
DTSTART:20230326T020000Z
RRULE:FREQ=YEARLY;BYMONTH=3;BYDAY=-1SU
END:DAYLIGHT
BEGIN:STANDARD
TZOFFSETFROM:+0100
TZOFFSETTO:+0000
TZNAME:GMT
DTSTART:20231029T020000Z
RRULE:FREQ=YEARLY;BYMONTH=10;BYDAY=-1SU
END:STANDARD
END:VTIMEZONE
BEGIN:VEVENT
SUMMARY:Beat Bobby Flay 255x38 - Holiday Throwdown: Feeling Frosted
DTSTAMP:20211103T075806Z
SEQUENCE:0
UID:133160-2-841ebed20eb198c4569419e99b7bf40a@themidnightzone.com
ORGANIZER;CN="Midnight":midnight@themidnightzone.com
DESCRIPTION:Holiday queen Sunny Anderson sprinkles seasonal cheer withsu
	gar\, spice and everything nice. Chefs Stephanie Izard\,Damaris Phillips a
	nd Duff Goldman challenge Bobby Flay to theultimate baking battle as they 
	whip up some festive\, frostedtreats in a bid to land a sweet victory and 
	leave Bobby icedout.
DTSTART:20231206T020000Z
DTEND:20231206T030000Z
END:VEVENT
END:VCALENDAR
