BEGIN:VCALENDAR
VERSION:2.0
PRODID:-//InvisionCommunity Events 4.7.23//EN
METHOD:PUBLISH
CALSCALE:GREGORIAN
REFRESH-INTERVAL:PT15M
X-PUBLISHED-TTL:PT15M
X-WR-CALNAME:At My TV
NAME:At My TV
BEGIN:VTIMEZONE
TZID:Europe/London
TZURL:http://tzurl.org/zoneinfo/Europe/London
X-LIC-LOCATION:Europe/London
BEGIN:DAYLIGHT
TZOFFSETFROM:+0000
TZOFFSETTO:+0100
TZNAME:BST
DTSTART:20210328T020000Z
RRULE:FREQ=YEARLY;BYMONTH=3;BYDAY=-1SU
END:DAYLIGHT
BEGIN:STANDARD
TZOFFSETFROM:+0100
TZOFFSETTO:+0000
TZNAME:GMT
DTSTART:20211031T020000Z
RRULE:FREQ=YEARLY;BYMONTH=10;BYDAY=-1SU
END:STANDARD
END:VTIMEZONE
BEGIN:VEVENT
SUMMARY:Nick Cannon 1x35 - Bill Bellamy\, Taylor Williamson\, Justin
	aValentine
DTSTAMP:20211107T075807Z
SEQUENCE:0
UID:133564-2-841ebed20eb198c4569419e99b7bf40a@themidnightzone.com
ORGANIZER;CN="Midnight":midnight@themidnightzone.com
DESCRIPTION:Actor Bill Bellamy is here to chat with Nick about his newmo
	vie A Rich Christmas and he gives Nick advice on what ittakes to have a su
	ccessful marriage after being married for 20years.The hilarious Taylor Wil
	liamson stops by Nick's ComedyClub.Plus\, Wild ‘N Out star Justina Valen
	tine and Nick wrapup Friday by discussing the top trending moments of the 
	week!
DTSTART:20211112T190000Z
DTEND:20211112T200000Z
END:VEVENT
END:VCALENDAR
