BEGIN:VCALENDAR
VERSION:2.0
PRODID:-//InvisionCommunity Events 4.7.23//EN
METHOD:PUBLISH
CALSCALE:GREGORIAN
REFRESH-INTERVAL:PT15M
X-PUBLISHED-TTL:PT15M
X-WR-CALNAME:At My TV
NAME:At My TV
BEGIN:VTIMEZONE
TZID:Europe/London
TZURL:http://tzurl.org/zoneinfo/Europe/London
X-LIC-LOCATION:Europe/London
BEGIN:DAYLIGHT
TZOFFSETFROM:+0000
TZOFFSETTO:+0100
TZNAME:BST
DTSTART:20210328T020000Z
RRULE:FREQ=YEARLY;BYMONTH=3;BYDAY=-1SU
END:DAYLIGHT
BEGIN:STANDARD
TZOFFSETFROM:+0100
TZOFFSETTO:+0000
TZNAME:GMT
DTSTART:20211031T020000Z
RRULE:FREQ=YEARLY;BYMONTH=10;BYDAY=-1SU
END:STANDARD
END:VTIMEZONE
BEGIN:VEVENT
SUMMARY:Pawn Stars 19x8 - Rocket Man
DTSTAMP:20211108T075806Z
SEQUENCE:0
UID:133592-2-841ebed20eb198c4569419e99b7bf40a@themidnightzone.com
ORGANIZER;CN="Midnight":midnight@themidnightzone.com
DESCRIPTION:Things get explosive when the Pawn Stars test out an importa
	ntpiece of history. But first\, Corey drills down on the chanceto buy a vi
	ntage dentist's chair. Can he pull out an offerbefore the seller brushes h
	im off? Next\, when an Andy WarholSuperman poster flies into the shop\, wi
	ll the Pawn Stars savethe day\, or will this work of art be their kryptoni
	te? Then\,Corey takes a shot at some miniature toy pistols\, while Rickand
	 Chum take a 1964 Cadillac Coupe DeVille for a spin. Andfinally\, when a N
	ASA Training Vehicle Rocket Engine crossesthe counter\, Rick shoots for th
	e moon to get his hands on anout-of-this-world item.
DTSTART:20211121T020000Z
DTEND:20211121T030000Z
END:VEVENT
END:VCALENDAR
