BEGIN:VCALENDAR
VERSION:2.0
PRODID:-//InvisionCommunity Events 4.7.23//EN
METHOD:PUBLISH
CALSCALE:GREGORIAN
REFRESH-INTERVAL:PT15M
X-PUBLISHED-TTL:PT15M
X-WR-CALNAME:At My TV
NAME:At My TV
BEGIN:VTIMEZONE
TZID:Europe/London
TZURL:http://tzurl.org/zoneinfo/Europe/London
X-LIC-LOCATION:Europe/London
BEGIN:DAYLIGHT
TZOFFSETFROM:+0000
TZOFFSETTO:+0100
TZNAME:BST
DTSTART:20210328T020000Z
RRULE:FREQ=YEARLY;BYMONTH=3;BYDAY=-1SU
END:DAYLIGHT
BEGIN:STANDARD
TZOFFSETFROM:+0100
TZOFFSETTO:+0000
TZNAME:GMT
DTSTART:20211031T020000Z
RRULE:FREQ=YEARLY;BYMONTH=10;BYDAY=-1SU
END:STANDARD
END:VTIMEZONE
BEGIN:VEVENT
SUMMARY:Below Deck 9x5 - Leave Your Emotions at the Cabin Door
DTSTAMP:20211109T075805Z
SEQUENCE:0
UID:133651-2-841ebed20eb198c4569419e99b7bf40a@themidnightzone.com
ORGANIZER;CN="Midnight":midnight@themidnightzone.com
DESCRIPTION:Eddie deals with his relationship fallout as Jake and Rayna 
	tryto figure out their feelings after Jake's revelation. Afterlosing his w
	alkie\, Fraser starts to feel like he's failing inhis job while Jessica ge
	ts upsetting news from back home. Thedeckhands make yet another mistake th
	at pushes Captain Lee andEddie to their breaking points.
DTSTART:20211123T020000Z
DTEND:20211123T030000Z
END:VEVENT
END:VCALENDAR
