BEGIN:VCALENDAR
VERSION:2.0
PRODID:-//InvisionCommunity Events 4.7.23//EN
METHOD:PUBLISH
CALSCALE:GREGORIAN
REFRESH-INTERVAL:PT15M
X-PUBLISHED-TTL:PT15M
X-WR-CALNAME:At My TV
NAME:At My TV
BEGIN:VTIMEZONE
TZID:Europe/London
TZURL:http://tzurl.org/zoneinfo/Europe/London
X-LIC-LOCATION:Europe/London
BEGIN:DAYLIGHT
TZOFFSETFROM:+0000
TZOFFSETTO:+0100
TZNAME:BST
DTSTART:20250330T020000Z
RRULE:FREQ=YEARLY;BYMONTH=3;BYDAY=-1SU
END:DAYLIGHT
BEGIN:STANDARD
TZOFFSETFROM:+0100
TZOFFSETTO:+0000
TZNAME:GMT
DTSTART:20251026T020000Z
RRULE:FREQ=YEARLY;BYMONTH=10;BYDAY=-1SU
END:STANDARD
END:VTIMEZONE
BEGIN:VEVENT
SUMMARY:NBC Sunday Night Football 255x11 - Pittsburgh Steelers at Lo
	sAngeles Chargers
DTSTAMP:20211110T075803Z
SEQUENCE:0
UID:133707-2-841ebed20eb198c4569419e99b7bf40a@themidnightzone.com
ORGANIZER;CN="Midnight":midnight@themidnightzone.com
DESCRIPTION:Four-time NFL MVP Aaron Rodgers and the AFC North-leadingPit
	tsburgh Steelers (5-3) visit Justin Herbert and the LosAngeles Chargers (6
	-3) in the Week 10 edition. Live from SoFiStadium in Inglewood\, Calif.Sun
	day marks Rodgers' 42nd game onSunday Night Football\, the most among acti
	ve players. With twotouchdown passes\, Rodgers will surpass Pro Football H
	all ofFamer Peyton Manning for the third-most games with multipletouchdown
	 passes in NFL history\, as well as extend his recordfor most touchdown pa
	sses in SNF history (89).The Steelers andChargers meet for the 37th time o
	n Sunday\, including thepostseason\, with Pittsburgh holding a 25-11 advan
	tage in theseries. This will be the first-ever matchup between Rodgers and
	Herbert.
DTSTART:20251110T012000Z
DTEND:20251110T045000Z
END:VEVENT
END:VCALENDAR
