BEGIN:VCALENDAR
VERSION:2.0
PRODID:-//InvisionCommunity Events 4.7.23//EN
METHOD:PUBLISH
CALSCALE:GREGORIAN
REFRESH-INTERVAL:PT15M
X-PUBLISHED-TTL:PT15M
X-WR-CALNAME:At My TV
NAME:At My TV
BEGIN:VTIMEZONE
TZID:Europe/London
TZURL:http://tzurl.org/zoneinfo/Europe/London
X-LIC-LOCATION:Europe/London
BEGIN:DAYLIGHT
TZOFFSETFROM:+0000
TZOFFSETTO:+0100
TZNAME:BST
DTSTART:20210328T020000Z
RRULE:FREQ=YEARLY;BYMONTH=3;BYDAY=-1SU
END:DAYLIGHT
BEGIN:STANDARD
TZOFFSETFROM:+0100
TZOFFSETTO:+0000
TZNAME:GMT
DTSTART:20211031T020000Z
RRULE:FREQ=YEARLY;BYMONTH=10;BYDAY=-1SU
END:STANDARD
END:VTIMEZONE
BEGIN:VEVENT
SUMMARY:Rachael Ray 16x50 - \"Talking Sopranos\" Hosts Michael Imper
	ioliand Steve Schirripa Are Talking About Their New Book andSharing Wild B
	ehind-the-Scenes Stories!
DTSTAMP:20211113T075810Z
SEQUENCE:0
UID:133843-2-841ebed20eb198c4569419e99b7bf40a@themidnightzone.com
ORGANIZER;CN="Midnight":midnight@themidnightzone.com
DESCRIPTION:Michael Imperioli and Steve Schirripa (\"Talking Sopranos\")
	 tellabout their new book and share wild behind-the-scenes storiesfrom the
	 show\; Rachael makes stuffed cannelloni\; chef MarcMurphy serves up stuff
	ing two ways.
DTSTART:20211119T160000Z
DTEND:20211119T170000Z
END:VEVENT
END:VCALENDAR
