BEGIN:VCALENDAR
VERSION:2.0
PRODID:-//InvisionCommunity Events 4.7.23//EN
METHOD:PUBLISH
CALSCALE:GREGORIAN
REFRESH-INTERVAL:PT15M
X-PUBLISHED-TTL:PT15M
X-WR-CALNAME:At My TV
NAME:At My TV
BEGIN:VTIMEZONE
TZID:Europe/London
TZURL:http://tzurl.org/zoneinfo/Europe/London
X-LIC-LOCATION:Europe/London
BEGIN:DAYLIGHT
TZOFFSETFROM:+0000
TZOFFSETTO:+0100
TZNAME:BST
DTSTART:20210328T020000Z
RRULE:FREQ=YEARLY;BYMONTH=3;BYDAY=-1SU
END:DAYLIGHT
BEGIN:STANDARD
TZOFFSETFROM:+0100
TZOFFSETTO:+0000
TZNAME:GMT
DTSTART:20211031T020000Z
RRULE:FREQ=YEARLY;BYMONTH=10;BYDAY=-1SU
END:STANDARD
END:VTIMEZONE
BEGIN:VEVENT
SUMMARY:Rachael Ray 16x49 - Ray and J's Upstate Home Rebuild IsCompl
	ete and They're Giving Us a Tour! Rachael's First Meal inthe New House Is 
	a Thanksgiving Feast
DTSTAMP:20211113T075810Z
SEQUENCE:0
UID:133847-2-841ebed20eb198c4569419e99b7bf40a@themidnightzone.com
ORGANIZER;CN="Midnight":midnight@themidnightzone.com
DESCRIPTION:A tour of Rachael and John's rebuilt upstate home: Rachaelta
	kes two turkeys and makes whisky buffalo wings and roulades\;pub cheese ma
	shed potatoes and cider gravy and stuffing.
DTSTART:20211118T160000Z
DTEND:20211118T170000Z
END:VEVENT
END:VCALENDAR
