BEGIN:VCALENDAR
VERSION:2.0
PRODID:-//InvisionCommunity Events 4.7.23//EN
METHOD:PUBLISH
CALSCALE:GREGORIAN
REFRESH-INTERVAL:PT15M
X-PUBLISHED-TTL:PT15M
X-WR-CALNAME:At My TV
NAME:At My TV
BEGIN:VTIMEZONE
TZID:Europe/London
TZURL:http://tzurl.org/zoneinfo/Europe/London
X-LIC-LOCATION:Europe/London
BEGIN:DAYLIGHT
TZOFFSETFROM:+0000
TZOFFSETTO:+0100
TZNAME:BST
DTSTART:20210328T020000Z
RRULE:FREQ=YEARLY;BYMONTH=3;BYDAY=-1SU
END:DAYLIGHT
BEGIN:STANDARD
TZOFFSETFROM:+0100
TZOFFSETTO:+0000
TZNAME:GMT
DTSTART:20211031T020000Z
RRULE:FREQ=YEARLY;BYMONTH=10;BYDAY=-1SU
END:STANDARD
END:VTIMEZONE
BEGIN:VEVENT
SUMMARY:Succession 3x9 - All the Bells Say
DTSTAMP:20211129T075754Z
SEQUENCE:0
UID:134749-2-841ebed20eb198c4569419e99b7bf40a@themidnightzone.com
ORGANIZER;CN="Midnight":midnight@themidnightzone.com
DESCRIPTION:Shiv and Roman learn that Matsson has his own vision for the
	future GoJo-Waystar relationship\, so they team up to managethe potential 
	fallout as Logan quietly considers his options.Later\, the siblings' \"int
	ervention\" prompts Connor to remindthem of his position in the family\, w
	hile Greg continues hisattempts to climb the dating ladder with a contessa
	.
DTSTART:20211213T020000Z
DTEND:20211213T030000Z
END:VEVENT
END:VCALENDAR
