BEGIN:VCALENDAR
VERSION:2.0
PRODID:-//InvisionCommunity Events 4.7.23//EN
METHOD:PUBLISH
CALSCALE:GREGORIAN
REFRESH-INTERVAL:PT15M
X-PUBLISHED-TTL:PT15M
X-WR-CALNAME:At My TV
NAME:At My TV
BEGIN:VTIMEZONE
TZID:Europe/London
TZURL:http://tzurl.org/zoneinfo/Europe/London
X-LIC-LOCATION:Europe/London
BEGIN:DAYLIGHT
TZOFFSETFROM:+0000
TZOFFSETTO:+0100
TZNAME:BST
DTSTART:20210328T020000Z
RRULE:FREQ=YEARLY;BYMONTH=3;BYDAY=-1SU
END:DAYLIGHT
BEGIN:STANDARD
TZOFFSETFROM:+0100
TZOFFSETTO:+0000
TZNAME:GMT
DTSTART:20211031T020000Z
RRULE:FREQ=YEARLY;BYMONTH=10;BYDAY=-1SU
END:STANDARD
END:VTIMEZONE
BEGIN:VEVENT
SUMMARY:Pawn Stars 19x11 - Declaration of Indepawndence
DTSTAMP:20211206T075751Z
SEQUENCE:0
UID:135123-2-841ebed20eb198c4569419e99b7bf40a@themidnightzone.com
ORGANIZER;CN="Midnight":midnight@themidnightzone.com
DESCRIPTION:Rick heads to New York City to check out an original broadsi
	deof the Declaration of Independence\; a seller jets into theshop with a r
	are playset based on the hit '80s film \"Top Gun\"\;Corey kicks it with a 
	Chelsea Football Club jersey signed byAmerican soccer phenomenon Christian
	 Pulisic\; a seller bringsin a memo written during production of \"The Wiz
	ard of Oz\" thatleaves Chum over the rainbow.
DTSTART:20211212T020000Z
DTEND:20211212T030000Z
END:VEVENT
END:VCALENDAR
