BEGIN:VCALENDAR
VERSION:2.0
PRODID:-//InvisionCommunity Events 4.7.23//EN
METHOD:PUBLISH
CALSCALE:GREGORIAN
REFRESH-INTERVAL:PT15M
X-PUBLISHED-TTL:PT15M
X-WR-CALNAME:At My TV
NAME:At My TV
BEGIN:VTIMEZONE
TZID:Europe/London
TZURL:http://tzurl.org/zoneinfo/Europe/London
X-LIC-LOCATION:Europe/London
BEGIN:DAYLIGHT
TZOFFSETFROM:+0000
TZOFFSETTO:+0100
TZNAME:BST
DTSTART:20210328T020000Z
RRULE:FREQ=YEARLY;BYMONTH=3;BYDAY=-1SU
END:DAYLIGHT
BEGIN:STANDARD
TZOFFSETFROM:+0100
TZOFFSETTO:+0000
TZNAME:GMT
DTSTART:20211031T020000Z
RRULE:FREQ=YEARLY;BYMONTH=10;BYDAY=-1SU
END:STANDARD
END:VTIMEZONE
BEGIN:VEVENT
SUMMARY:Project Runway 19x9 - The Last Straw
DTSTAMP:20211207T075751Z
SEQUENCE:0
UID:135179-2-841ebed20eb198c4569419e99b7bf40a@themidnightzone.com
ORGANIZER;CN="Midnight":midnight@themidnightzone.com
DESCRIPTION:The designers fall for an age-old prank when they're invited
	out for cocktails by Christian Siriano only to discover thatit's actually 
	challenge-time\, not party-time. It's time forthe unconventional challenge
	 where the designers will be askedto create an elegant cocktail dress from
	 an actual cocktailbar. Plus\, one of fashion's most exciting designers\,C
	hristopher John Rogers\, is the judge on the guest list forthis VIP party.
DTSTART:20211217T021500Z
DTEND:20211217T034500Z
END:VEVENT
END:VCALENDAR
