BEGIN:VCALENDAR
VERSION:2.0
PRODID:-//InvisionCommunity Events 4.7.23//EN
METHOD:PUBLISH
CALSCALE:GREGORIAN
REFRESH-INTERVAL:PT15M
X-PUBLISHED-TTL:PT15M
X-WR-CALNAME:At My TV
NAME:At My TV
BEGIN:VTIMEZONE
TZID:Europe/London
TZURL:http://tzurl.org/zoneinfo/Europe/London
X-LIC-LOCATION:Europe/London
BEGIN:DAYLIGHT
TZOFFSETFROM:+0000
TZOFFSETTO:+0100
TZNAME:BST
DTSTART:20210328T020000Z
RRULE:FREQ=YEARLY;BYMONTH=3;BYDAY=-1SU
END:DAYLIGHT
BEGIN:STANDARD
TZOFFSETFROM:+0100
TZOFFSETTO:+0000
TZNAME:GMT
DTSTART:20211031T020000Z
RRULE:FREQ=YEARLY;BYMONTH=10;BYDAY=-1SU
END:STANDARD
END:VTIMEZONE
BEGIN:VEVENT
SUMMARY:Dexter: New Blood 1x8 - Unfair Game
DTSTAMP:20211213T075748Z
SEQUENCE:0
UID:135380-2-841ebed20eb198c4569419e99b7bf40a@themidnightzone.com
ORGANIZER;CN="Midnight":midnight@themidnightzone.com
DESCRIPTION:Dexter fights for his life in the woods of Iron Lake\, leadi
	ngto a confrontation in an abandoned summer camp. Is there abetter place f
	or a serial killer to confront another violentkiller? Harrison finds himse
	lf at a crossroads between twofather figures who can lead him down two ver
	y different paths.Meanwhile Angela starts to make some disturbing discover
	ies ofher own. 
DTSTART:20211227T020000Z
DTEND:20211227T030000Z
END:VEVENT
END:VCALENDAR
