BEGIN:VCALENDAR
VERSION:2.0
PRODID:-//InvisionCommunity Events 4.7.23//EN
METHOD:PUBLISH
CALSCALE:GREGORIAN
REFRESH-INTERVAL:PT15M
X-PUBLISHED-TTL:PT15M
X-WR-CALNAME:At My TV
NAME:At My TV
BEGIN:VTIMEZONE
TZID:Europe/London
TZURL:http://tzurl.org/zoneinfo/Europe/London
X-LIC-LOCATION:Europe/London
BEGIN:DAYLIGHT
TZOFFSETFROM:+0000
TZOFFSETTO:+0100
TZNAME:BST
DTSTART:20250330T020000Z
RRULE:FREQ=YEARLY;BYMONTH=3;BYDAY=-1SU
END:DAYLIGHT
BEGIN:STANDARD
TZOFFSETFROM:+0100
TZOFFSETTO:+0000
TZNAME:GMT
DTSTART:20251026T020000Z
RRULE:FREQ=YEARLY;BYMONTH=10;BYDAY=-1SU
END:STANDARD
END:VTIMEZONE
BEGIN:VEVENT
SUMMARY:NBC Sunday Night Football 255x16 - Houston Texans at KansasC
	ity Chiefs
DTSTAMP:20211215T075747Z
SEQUENCE:0
UID:135428-2-841ebed20eb198c4569419e99b7bf40a@themidnightzone.com
ORGANIZER;CN="Midnight":midnight@themidnightzone.com
DESCRIPTION:Three-time Super Bowl MVP Patrick Mahomes and the Kansas Cit
	yChiefs (6-6) host 2023 NFL Offensive Rookie of the Year C.J.Stroud and th
	e Houston Texans (7-5) in the Week 14 edition.Both teams are shy of the to
	p seven spots in the AFC and needwins to stay in postseason contention. Li
	ve from GEHA Field atArrowhead Stadium in Kansas City\, Mo. The Texans an
	d Chiefsmeet for the 17th time on Sunday\, including the postseason\,with 
	Kansas City holding an 11-5 advantage in the series.Houston and Kansas Cit
	y met twice last season\, with their mostrecent matchup in the AFC Divisio
	nal Round\, which the Chiefswon\, 23-14\, en route to the team's fifth Sup
	er Bowlappearance in six seasons. Preceding that was a 27-19 Chiefswin. 
DTSTART:20251208T012000Z
DTEND:20251208T045000Z
END:VEVENT
END:VCALENDAR
