BEGIN:VCALENDAR
VERSION:2.0
PRODID:-//InvisionCommunity Events 4.7.23//EN
METHOD:PUBLISH
CALSCALE:GREGORIAN
REFRESH-INTERVAL:PT15M
X-PUBLISHED-TTL:PT15M
X-WR-CALNAME:At My TV
NAME:At My TV
BEGIN:VTIMEZONE
TZID:Europe/London
TZURL:http://tzurl.org/zoneinfo/Europe/London
X-LIC-LOCATION:Europe/London
BEGIN:DAYLIGHT
TZOFFSETFROM:+0000
TZOFFSETTO:+0100
TZNAME:BST
DTSTART:20210328T020000Z
RRULE:FREQ=YEARLY;BYMONTH=3;BYDAY=-1SU
END:DAYLIGHT
BEGIN:STANDARD
TZOFFSETFROM:+0100
TZOFFSETTO:+0000
TZNAME:GMT
DTSTART:20211031T020000Z
RRULE:FREQ=YEARLY;BYMONTH=10;BYDAY=-1SU
END:STANDARD
END:VTIMEZONE
BEGIN:VEVENT
SUMMARY:The Real Housewives Of Orange County 16x4 - Judge & Jury
DTSTAMP:20211217T075745Z
SEQUENCE:0
UID:135494-2-841ebed20eb198c4569419e99b7bf40a@themidnightzone.com
ORGANIZER;CN="Midnight":midnight@themidnightzone.com
DESCRIPTION:The ladies gather to celebrate Shane finally passing theCali
	fornia bar. Despite making amends with Gina\, Shannon runsinto another roa
	dblock with Emily. Noella's situation worsensas she struggles to find answ
	ers about her husband. Heatherlearns about Dr. Jen's issues with Noella an
	d soon findsherself in Noella's crosshairs.
DTSTART:20211223T020000Z
DTEND:20211223T030000Z
END:VEVENT
END:VCALENDAR
