BEGIN:VCALENDAR
VERSION:2.0
PRODID:-//InvisionCommunity Events 4.7.23//EN
METHOD:PUBLISH
CALSCALE:GREGORIAN
REFRESH-INTERVAL:PT15M
X-PUBLISHED-TTL:PT15M
X-WR-CALNAME:At My TV
NAME:At My TV
BEGIN:VTIMEZONE
TZID:Europe/London
TZURL:http://tzurl.org/zoneinfo/Europe/London
X-LIC-LOCATION:Europe/London
BEGIN:DAYLIGHT
TZOFFSETFROM:+0000
TZOFFSETTO:+0100
TZNAME:BST
DTSTART:20220327T020000Z
RRULE:FREQ=YEARLY;BYMONTH=3;BYDAY=-1SU
END:DAYLIGHT
BEGIN:STANDARD
TZOFFSETFROM:+0100
TZOFFSETTO:+0000
TZNAME:GMT
DTSTART:20221030T020000Z
RRULE:FREQ=YEARLY;BYMONTH=10;BYDAY=-1SU
END:STANDARD
END:VTIMEZONE
BEGIN:VEVENT
SUMMARY:Call The Midwife 11x1 - Episode 1
DTSTAMP:20211219T075745Z
SEQUENCE:0
UID:135547-2-841ebed20eb198c4569419e99b7bf40a@themidnightzone.com
ORGANIZER;CN="Midnight":midnight@themidnightzone.com
DESCRIPTION:It's Easter 1967\, and celebrations are underway for acolour
	ful Easter bonnet parade outside Nonnatus House. SisterMonica Joan and Reg
	gie are excited about the Eurovision songcontest\, while Cyril and Lucille
	 settle into blissful marriedlife. After taking some time away following t
	he death of theirnewborn son\, Derek and Audrey Fleming return to Poplar w
	ithgood news - Audrey is pregnant again.During demolition work ata nearby 
	tenement block\, the builders make a shockingdiscovery. The news ripples t
	hrough the community\, and thepolice are called in. The trail leads to som
	eone close to homeand has a heartbreaking effect on the team.
DTSTART:20220102T200000Z
DTEND:20220102T210000Z
END:VEVENT
END:VCALENDAR
