BEGIN:VCALENDAR
VERSION:2.0
PRODID:-//InvisionCommunity Events 4.7.23//EN
METHOD:PUBLISH
CALSCALE:GREGORIAN
REFRESH-INTERVAL:PT15M
X-PUBLISHED-TTL:PT15M
X-WR-CALNAME:At My TV
NAME:At My TV
BEGIN:VTIMEZONE
TZID:Europe/London
TZURL:http://tzurl.org/zoneinfo/Europe/London
X-LIC-LOCATION:Europe/London
BEGIN:DAYLIGHT
TZOFFSETFROM:+0000
TZOFFSETTO:+0100
TZNAME:BST
DTSTART:20210328T020000Z
RRULE:FREQ=YEARLY;BYMONTH=3;BYDAY=-1SU
END:DAYLIGHT
BEGIN:STANDARD
TZOFFSETFROM:+0100
TZOFFSETTO:+0000
TZNAME:GMT
DTSTART:20211031T020000Z
RRULE:FREQ=YEARLY;BYMONTH=10;BYDAY=-1SU
END:STANDARD
END:VTIMEZONE
BEGIN:VEVENT
SUMMARY:60 Minutes 54x14 - Tornadoes | America's Dirty Secret | Trev
	orNoah
DTSTAMP:20211219T075745Z
SEQUENCE:0
UID:135562-2-841ebed20eb198c4569419e99b7bf40a@themidnightzone.com
ORGANIZER;CN="Midnight":midnight@themidnightzone.com
DESCRIPTION:Tornadoes – Scott Pelley reports on the new science ofsup
	erstorms. What spawned one of the most devastating swarms oftornadoes ever
	 to tear through the United States? Pelleyreports from Kentucky\, where mo
	re than 70 people were killedlast weekend and billions of dollars in losse
	soccurred. America's Dirty Secret – Bill Whitaker reportsfrom Alabama'
	s Black Belt\, ground zero in an unseen publichealth epidemic: by some est
	imates\, half the impoverished\,rural residents in Lowndes County have raw
	 sewage spilling intotheir yards and even their homes. Sanitary wastewater
	 disposalis required by the state but not provided to residents outsidesma
	ll towns\, leaving many living in the countryside who can'tafford it with 
	no sewage systems at all. Whitaker speaks withfamilies battling conditions
	 you'd never expect to see in theheart of America and meets one advocate w
	ho hopes to exposewhat she calls \"America's dirty secret.\" Trevor No
	ah –Trevor Noah is an unstoppable comedic force. As host of \"TheDaily 
	Show\,\" he has attracted widespread and sometimes viralattention for his 
	heartfelt and cutting socialcommentary. Forbes ranked him the fourth-hig
	hest-earningcomedian\, and Time named him one of its 100 most influentia
	lpeople. Lesley Stahl interviews Noah\, currently on the roadwith his late
	st comedy tour. 
DTSTART:20211220T000000Z
DTEND:20211220T010000Z
END:VEVENT
END:VCALENDAR
