BEGIN:VCALENDAR
VERSION:2.0
PRODID:-//InvisionCommunity Events 4.7.23//EN
METHOD:PUBLISH
CALSCALE:GREGORIAN
REFRESH-INTERVAL:PT15M
X-PUBLISHED-TTL:PT15M
X-WR-CALNAME:At My TV
NAME:At My TV
BEGIN:VTIMEZONE
TZID:Europe/London
TZURL:http://tzurl.org/zoneinfo/Europe/London
X-LIC-LOCATION:Europe/London
BEGIN:DAYLIGHT
TZOFFSETFROM:+0000
TZOFFSETTO:+0100
TZNAME:BST
DTSTART:20210328T020000Z
RRULE:FREQ=YEARLY;BYMONTH=3;BYDAY=-1SU
END:DAYLIGHT
BEGIN:STANDARD
TZOFFSETFROM:+0100
TZOFFSETTO:+0000
TZNAME:GMT
DTSTART:20211031T020000Z
RRULE:FREQ=YEARLY;BYMONTH=10;BYDAY=-1SU
END:STANDARD
END:VTIMEZONE
BEGIN:VEVENT
SUMMARY:Police Interceptors 20x5 - Episode 5
DTSTAMP:20211221T075744Z
SEQUENCE:0
UID:135633-2-841ebed20eb198c4569419e99b7bf40a@themidnightzone.com
ORGANIZER;CN="Midnight":midnight@themidnightzone.com
DESCRIPTION:Charlie and Wayne are in hot pursuit of a van\, but the driv
	ercrashes the vehicle and runs off into the night. With the helpof a track
	er\, officers hunt down a 17-year-old suspected ofcommitting a serious rob
	bery\, while Matt and Brimmers are onthe hunt for the driver of a £300\,0
	00 Rolls-Royce who isthought to be under the influence.
DTSTART:20211223T200000Z
DTEND:20211223T210000Z
END:VEVENT
END:VCALENDAR
