BEGIN:VCALENDAR
VERSION:2.0
PRODID:-//InvisionCommunity Events 4.7.23//EN
METHOD:PUBLISH
CALSCALE:GREGORIAN
REFRESH-INTERVAL:PT15M
X-PUBLISHED-TTL:PT15M
X-WR-CALNAME:At My TV
NAME:At My TV
BEGIN:VTIMEZONE
TZID:Europe/London
TZURL:http://tzurl.org/zoneinfo/Europe/London
X-LIC-LOCATION:Europe/London
BEGIN:DAYLIGHT
TZOFFSETFROM:+0000
TZOFFSETTO:+0100
TZNAME:BST
DTSTART:20210328T020000Z
RRULE:FREQ=YEARLY;BYMONTH=3;BYDAY=-1SU
END:DAYLIGHT
BEGIN:STANDARD
TZOFFSETFROM:+0100
TZOFFSETTO:+0000
TZNAME:GMT
DTSTART:20211031T020000Z
RRULE:FREQ=YEARLY;BYMONTH=10;BYDAY=-1SU
END:STANDARD
END:VTIMEZONE
BEGIN:VEVENT
SUMMARY:Vice 8x15 - But I Read It Online & No Safe Haven
DTSTAMP:20211223T075745Z
SEQUENCE:0
UID:135732-2-841ebed20eb198c4569419e99b7bf40a@themidnightzone.com
ORGANIZER;CN="Midnight":midnight@themidnightzone.com
DESCRIPTION:Alzo Slade explores how medical disinformation has prolifera
	tedand been politicized under the guise of \"alternative health\"during th
	e COVID-19 pandemic\; Hind Hassan travels to thefrontiers of Turkey and Eu
	rope\, documenting a new migrantcrisis and witnessing Greece's abuse of in
	ternational law aspart of Europe's response to the humanitarian crisis the
	yhelped create.
DTSTART:20211227T010000Z
DTEND:20211227T013000Z
END:VEVENT
END:VCALENDAR
