BEGIN:VCALENDAR
VERSION:2.0
PRODID:-//InvisionCommunity Events 4.7.23//EN
METHOD:PUBLISH
CALSCALE:GREGORIAN
REFRESH-INTERVAL:PT15M
X-PUBLISHED-TTL:PT15M
X-WR-CALNAME:At My TV
NAME:At My TV
BEGIN:VTIMEZONE
TZID:Europe/London
TZURL:http://tzurl.org/zoneinfo/Europe/London
X-LIC-LOCATION:Europe/London
BEGIN:DAYLIGHT
TZOFFSETFROM:+0000
TZOFFSETTO:+0100
TZNAME:BST
DTSTART:20220327T020000Z
RRULE:FREQ=YEARLY;BYMONTH=3;BYDAY=-1SU
END:DAYLIGHT
BEGIN:STANDARD
TZOFFSETFROM:+0100
TZOFFSETTO:+0000
TZNAME:GMT
DTSTART:20221030T020000Z
RRULE:FREQ=YEARLY;BYMONTH=10;BYDAY=-1SU
END:STANDARD
END:VTIMEZONE
BEGIN:VEVENT
SUMMARY:The Graham Norton Show 29x13 - Martin Freeman\, DenzelWashin
	gton\, Josh Widdicombe\, Nina Sosanya\, Years & Years
DTSTAMP:20211224T075744Z
SEQUENCE:0
UID:135750-2-841ebed20eb198c4569419e99b7bf40a@themidnightzone.com
ORGANIZER;CN="Midnight":midnight@themidnightzone.com
DESCRIPTION:Graham kicks off the new year with a sparkling line-up ofgue
	sts\, including the star of The Hobbit and The Office\,Martin Freeman\, in
	 new BBC police drama The Responder\,double-Oscar-winning Hollywood great 
	Denzel Washington\, inJoel Coen's film The Tragedy of Macbeth\, top comic 
	JoshWiddicombe and Nina Sosanya\, starring in new prison dramaScrew. With 
	music from Years &amp\; Years\, performing theircurrent single Sweet Talke
	r.
DTSTART:20220107T223500Z
DTEND:20220107T232500Z
END:VEVENT
END:VCALENDAR
