BEGIN:VCALENDAR
VERSION:2.0
PRODID:-//InvisionCommunity Events 4.7.23//EN
METHOD:PUBLISH
CALSCALE:GREGORIAN
REFRESH-INTERVAL:PT15M
X-PUBLISHED-TTL:PT15M
X-WR-CALNAME:At My TV
NAME:At My TV
BEGIN:VTIMEZONE
TZID:Europe/London
TZURL:http://tzurl.org/zoneinfo/Europe/London
X-LIC-LOCATION:Europe/London
BEGIN:DAYLIGHT
TZOFFSETFROM:+0000
TZOFFSETTO:+0100
TZNAME:BST
DTSTART:20220327T020000Z
RRULE:FREQ=YEARLY;BYMONTH=3;BYDAY=-1SU
END:DAYLIGHT
BEGIN:STANDARD
TZOFFSETFROM:+0100
TZOFFSETTO:+0000
TZNAME:GMT
DTSTART:20221030T020000Z
RRULE:FREQ=YEARLY;BYMONTH=10;BYDAY=-1SU
END:STANDARD
END:VTIMEZONE
BEGIN:VEVENT
SUMMARY:Would I Lie To You? 15x1 - John Cooper Clarke\, Judi Love\,C
	hris McCausland\, Caroline Quentin
DTSTAMP:20211224T075744Z
SEQUENCE:0
UID:135754-2-841ebed20eb198c4569419e99b7bf40a@themidnightzone.com
ORGANIZER;CN="Midnight":midnight@themidnightzone.com
DESCRIPTION:Rob Brydon is back in the host's chair for the award-winning
	comedy panel show\, with Lee Mack and David Mitchell returningas team capt
	ains. Sorting the fact from fiction this week areguests John Cooper Clarke
	\, Judi Love\, Chris McCausland andCaroline Quentin.
DTSTART:20220107T203000Z
DTEND:20220107T210000Z
END:VEVENT
END:VCALENDAR
