BEGIN:VCALENDAR
VERSION:2.0
PRODID:-//InvisionCommunity Events 4.7.23//EN
METHOD:PUBLISH
CALSCALE:GREGORIAN
REFRESH-INTERVAL:PT15M
X-PUBLISHED-TTL:PT15M
X-WR-CALNAME:Pogdesign
NAME:Pogdesign
BEGIN:VTIMEZONE
TZID:Europe/London
TZURL:http://tzurl.org/zoneinfo/Europe/London
X-LIC-LOCATION:Europe/London
BEGIN:DAYLIGHT
TZOFFSETFROM:+0000
TZOFFSETTO:+0100
TZNAME:BST
DTSTART:20220327T020000Z
RRULE:FREQ=YEARLY;BYMONTH=3;BYDAY=-1SU
END:DAYLIGHT
BEGIN:STANDARD
TZOFFSETFROM:+0100
TZOFFSETTO:+0000
TZNAME:GMT
DTSTART:20221030T020000Z
RRULE:FREQ=YEARLY;BYMONTH=10;BYDAY=-1SU
END:STANDARD
END:VTIMEZONE
BEGIN:VEVENT
SUMMARY:Blue Bloods 12x10 - Old Friends
DTSTAMP:20211225T120004Z
SEQUENCE:0
UID:135834-3-841ebed20eb198c4569419e99b7bf40a@themidnightzone.com
ORGANIZER;CN="Midnight":midnight@themidnightzone.com
DESCRIPTION:An illegal drug shipment arriving in New York City forces Da
	nnyto partner up with his Texas Ranger associate\, Major WaylonGates\, to 
	find the narcotics before they flood the streets.Also\, Jamie makes a conc
	erning discovery about a former mentoras he helps a neighbor handle a gamb
	ling debt\, and Frankreceives pushback from Mayor Chase over his handling 
	of a brawlbetween demonstrators and police officers at a protest.
DTSTART:20220107T220000Z
DTEND:20220107T230000Z
END:VEVENT
END:VCALENDAR
