BEGIN:VCALENDAR
VERSION:2.0
PRODID:-//InvisionCommunity Events 4.7.23//EN
METHOD:PUBLISH
CALSCALE:GREGORIAN
REFRESH-INTERVAL:PT15M
X-PUBLISHED-TTL:PT15M
X-WR-CALNAME:At My TV
NAME:At My TV
BEGIN:VTIMEZONE
TZID:Europe/London
TZURL:http://tzurl.org/zoneinfo/Europe/London
X-LIC-LOCATION:Europe/London
BEGIN:DAYLIGHT
TZOFFSETFROM:+0000
TZOFFSETTO:+0100
TZNAME:BST
DTSTART:20220327T020000Z
RRULE:FREQ=YEARLY;BYMONTH=3;BYDAY=-1SU
END:DAYLIGHT
BEGIN:STANDARD
TZOFFSETFROM:+0100
TZOFFSETTO:+0000
TZNAME:GMT
DTSTART:20221030T020000Z
RRULE:FREQ=YEARLY;BYMONTH=10;BYDAY=-1SU
END:STANDARD
END:VTIMEZONE
BEGIN:VEVENT
SUMMARY:Vera 11x3 - Tyger Tyger
DTSTAMP:20211226T075742Z
SEQUENCE:0
UID:135846-2-841ebed20eb198c4569419e99b7bf40a@themidnightzone.com
ORGANIZER;CN="Midnight":midnight@themidnightzone.com
DESCRIPTION:When security foreman Gary Mallon is fatally wounded during 
	arobbery at a Blyth container port the evidence points to anaudacious heis
	t that went awry. Vera begins to suspect aninside job. But the investigati
	on takes an unexpected turn whenGary's ex-wife contacts police with the ne
	ws that their13-year-old son is missing.Gary Mallon was acting under dures
	s- the victim of a tiger kidnapping. His son was being held ascollateral -
	 but where is he now?
DTSTART:20220109T200000Z
DTEND:20220109T220000Z
END:VEVENT
END:VCALENDAR
