BEGIN:VCALENDAR
VERSION:2.0
PRODID:-//InvisionCommunity Events 4.7.23//EN
METHOD:PUBLISH
CALSCALE:GREGORIAN
REFRESH-INTERVAL:PT15M
X-PUBLISHED-TTL:PT15M
X-WR-CALNAME:At My TV
NAME:At My TV
BEGIN:VTIMEZONE
TZID:Europe/London
TZURL:http://tzurl.org/zoneinfo/Europe/London
X-LIC-LOCATION:Europe/London
BEGIN:DAYLIGHT
TZOFFSETFROM:+0000
TZOFFSETTO:+0100
TZNAME:BST
DTSTART:20220327T020000Z
RRULE:FREQ=YEARLY;BYMONTH=3;BYDAY=-1SU
END:DAYLIGHT
BEGIN:STANDARD
TZOFFSETFROM:+0100
TZOFFSETTO:+0000
TZNAME:GMT
DTSTART:20221030T020000Z
RRULE:FREQ=YEARLY;BYMONTH=10;BYDAY=-1SU
END:STANDARD
END:VTIMEZONE
BEGIN:VEVENT
SUMMARY:Undercover Boss 11x4 - Rita's Ice
DTSTAMP:20220115T083732Z
SEQUENCE:0
UID:136787-2-841ebed20eb198c4569419e99b7bf40a@themidnightzone.com
ORGANIZER;CN="Midnight":midnight@themidnightzone.com
DESCRIPTION:Linda L. Chadwick\, president and CEO\, Rita's Italian Ice&a
	mp\; Frozen Custard goes undercover to see how her newinitiatives are work
	ing and to help franchisees become moreprofitable. Will the boss encounter
	 procedures or equipmentthat seem \"frozen in time\"? What will it take to
	 help her get astruggling franchisee to reach sweet success?
DTSTART:20220129T010000Z
DTEND:20220129T020000Z
END:VEVENT
END:VCALENDAR
