BEGIN:VCALENDAR
VERSION:2.0
PRODID:-//InvisionCommunity Events 4.7.23//EN
METHOD:PUBLISH
CALSCALE:GREGORIAN
REFRESH-INTERVAL:PT15M
X-PUBLISHED-TTL:PT15M
X-WR-CALNAME:At My TV
NAME:At My TV
BEGIN:VTIMEZONE
TZID:Europe/London
TZURL:http://tzurl.org/zoneinfo/Europe/London
X-LIC-LOCATION:Europe/London
BEGIN:DAYLIGHT
TZOFFSETFROM:+0000
TZOFFSETTO:+0100
TZNAME:BST
DTSTART:20220327T020000Z
RRULE:FREQ=YEARLY;BYMONTH=3;BYDAY=-1SU
END:DAYLIGHT
BEGIN:STANDARD
TZOFFSETFROM:+0100
TZOFFSETTO:+0000
TZNAME:GMT
DTSTART:20221030T020000Z
RRULE:FREQ=YEARLY;BYMONTH=10;BYDAY=-1SU
END:STANDARD
END:VTIMEZONE
BEGIN:VEVENT
SUMMARY:Restaurant: Impossible 20x7 - Slumping Sales in San Jose
DTSTAMP:20220115T083732Z
SEQUENCE:0
UID:136796-2-841ebed20eb198c4569419e99b7bf40a@themidnightzone.com
ORGANIZER;CN="Midnight":midnight@themidnightzone.com
DESCRIPTION:Chef Robert Irvine finds The Breakfast Place in San Jose\,Ca
	lif.\, uninspired\, dirty and close to shutting the doors forgood. Co-owne
	rs Cristina and Raquel\, two Mexican immigrantswho have paid their dues in
	 the service industry for decades\,are struggling with the realities of ow
	ning their ownrestaurant. They're burnt out and don't have the confidence 
	tolead their staff. Can Robert save their friendship and theirbusiness bef
	ore it's too late?
DTSTART:20220128T020000Z
DTEND:20220128T030000Z
END:VEVENT
END:VCALENDAR
