BEGIN:VCALENDAR
VERSION:2.0
PRODID:-//InvisionCommunity Events 4.7.23//EN
METHOD:PUBLISH
CALSCALE:GREGORIAN
REFRESH-INTERVAL:PT15M
X-PUBLISHED-TTL:PT15M
X-WR-CALNAME:At My TV
NAME:At My TV
BEGIN:VTIMEZONE
TZID:Europe/London
TZURL:http://tzurl.org/zoneinfo/Europe/London
X-LIC-LOCATION:Europe/London
BEGIN:DAYLIGHT
TZOFFSETFROM:+0000
TZOFFSETTO:+0100
TZNAME:BST
DTSTART:20220327T020000Z
RRULE:FREQ=YEARLY;BYMONTH=3;BYDAY=-1SU
END:DAYLIGHT
BEGIN:STANDARD
TZOFFSETFROM:+0100
TZOFFSETTO:+0000
TZNAME:GMT
DTSTART:20221030T020000Z
RRULE:FREQ=YEARLY;BYMONTH=10;BYDAY=-1SU
END:STANDARD
END:VTIMEZONE
BEGIN:VEVENT
SUMMARY:The Cleaning Lady 1x6 - Mother's Mission
DTSTAMP:20220201T083724Z
SEQUENCE:0
UID:137633-2-841ebed20eb198c4569419e99b7bf40a@themidnightzone.com
ORGANIZER;CN="Midnight":midnight@themidnightzone.com
DESCRIPTION:Since their brush with ICE\, Fiona and Thony's relationship 
	isstrained\, as a result of Thony's lies. Meanwhile\, Arman usesThony's re
	lationship with Garrett to feed information to theFBI. Then\, as Luca's he
	alth declines\, Thony must decide ifshe can work with Mother Donna\, who m
	ay be a potentialresource for a liver transplant for Luca\, but at what co
	st toThony.
DTSTART:20220215T020100Z
DTEND:20220215T030100Z
END:VEVENT
END:VCALENDAR
