BEGIN:VCALENDAR
VERSION:2.0
PRODID:-//InvisionCommunity Events 4.7.23//EN
METHOD:PUBLISH
CALSCALE:GREGORIAN
REFRESH-INTERVAL:PT15M
X-PUBLISHED-TTL:PT15M
X-WR-CALNAME:At My TV
NAME:At My TV
BEGIN:VTIMEZONE
TZID:Europe/London
TZURL:http://tzurl.org/zoneinfo/Europe/London
X-LIC-LOCATION:Europe/London
BEGIN:DAYLIGHT
TZOFFSETFROM:+0000
TZOFFSETTO:+0100
TZNAME:BST
DTSTART:20220327T020000Z
RRULE:FREQ=YEARLY;BYMONTH=3;BYDAY=-1SU
END:DAYLIGHT
BEGIN:STANDARD
TZOFFSETFROM:+0100
TZOFFSETTO:+0000
TZNAME:GMT
DTSTART:20221030T020000Z
RRULE:FREQ=YEARLY;BYMONTH=10;BYDAY=-1SU
END:STANDARD
END:VTIMEZONE
BEGIN:VEVENT
SUMMARY:All American 4x8 - Walk This Way
DTSTAMP:20220208T083721Z
SEQUENCE:0
UID:137959-2-841ebed20eb198c4569419e99b7bf40a@themidnightzone.com
ORGANIZER;CN="Midnight":midnight@themidnightzone.com
DESCRIPTION:With Spencer's determination to protect his teammates fromun
	just punishment\, he puts his own future at risk. Olivia andLayla question
	 their post-graduation plans only to find theanswers where they least expe
	ct it. Asher is too proud to askfor help to pay for his dream college and 
	takes his frustrationout on the people trying to help him. Coop makes ahea
	rtbreaking decision when it comes to Amina Meanwhile\, Billyand Laura deal
	 with the aftermath of what happened to.
DTSTART:20220222T010000Z
DTEND:20220222T020000Z
END:VEVENT
END:VCALENDAR
