BEGIN:VCALENDAR
VERSION:2.0
PRODID:-//InvisionCommunity Events 4.7.23//EN
METHOD:PUBLISH
CALSCALE:GREGORIAN
REFRESH-INTERVAL:PT15M
X-PUBLISHED-TTL:PT15M
X-WR-CALNAME:At My TV
NAME:At My TV
BEGIN:VTIMEZONE
TZID:Europe/London
TZURL:http://tzurl.org/zoneinfo/Europe/London
X-LIC-LOCATION:Europe/London
BEGIN:DAYLIGHT
TZOFFSETFROM:+0000
TZOFFSETTO:+0100
TZNAME:BST
DTSTART:20220327T020000Z
RRULE:FREQ=YEARLY;BYMONTH=3;BYDAY=-1SU
END:DAYLIGHT
BEGIN:STANDARD
TZOFFSETFROM:+0100
TZOFFSETTO:+0000
TZNAME:GMT
DTSTART:20221030T020000Z
RRULE:FREQ=YEARLY;BYMONTH=10;BYDAY=-1SU
END:STANDARD
END:VTIMEZONE
BEGIN:VEVENT
SUMMARY:Nick Cannon 1x87 - Luenell
DTSTAMP:20220212T083719Z
SEQUENCE:0
UID:138190-2-841ebed20eb198c4569419e99b7bf40a@themidnightzone.com
ORGANIZER;CN="Midnight":midnight@themidnightzone.com
DESCRIPTION:Comedian Luenell is here to chat about her timeless career\,
	working on Nick's latest movie together and being in the newdocuseries \"P
	hat Tuesday.\"Plus\, Nick chats with a 15-year-oldfast food employee who j
	umped through a drive-thru window tosave a customer's life!And in honor of
	 Random Acts of KindnessDay\, Nick shares some of the most incredible vira
	l videos ofpeople paying it forward.
DTSTART:20220217T190000Z
DTEND:20220217T200000Z
END:VEVENT
END:VCALENDAR
