BEGIN:VCALENDAR
VERSION:2.0
PRODID:-//InvisionCommunity Events 4.7.23//EN
METHOD:PUBLISH
CALSCALE:GREGORIAN
REFRESH-INTERVAL:PT15M
X-PUBLISHED-TTL:PT15M
X-WR-CALNAME:At My TV
NAME:At My TV
BEGIN:VTIMEZONE
TZID:Europe/London
TZURL:http://tzurl.org/zoneinfo/Europe/London
X-LIC-LOCATION:Europe/London
BEGIN:DAYLIGHT
TZOFFSETFROM:+0000
TZOFFSETTO:+0100
TZNAME:BST
DTSTART:20220327T020000Z
RRULE:FREQ=YEARLY;BYMONTH=3;BYDAY=-1SU
END:DAYLIGHT
BEGIN:STANDARD
TZOFFSETFROM:+0100
TZOFFSETTO:+0000
TZNAME:GMT
DTSTART:20221030T020000Z
RRULE:FREQ=YEARLY;BYMONTH=10;BYDAY=-1SU
END:STANDARD
END:VTIMEZONE
BEGIN:VEVENT
SUMMARY:All American 4x10 - 6 'N the Mornin'
DTSTAMP:20220222T083714Z
SEQUENCE:0
UID:138717-2-841ebed20eb198c4569419e99b7bf40a@themidnightzone.com
ORGANIZER;CN="Midnight":midnight@themidnightzone.com
DESCRIPTION:With summer ending and their college football careersbeginni
	ng\, Spencer tries to adjust to more than his brutalworkout schedule. Oliv
	ia is excited for her new job\, but itisn't what she anticipated. Patience
	 asks Layla for help withCoop in getting her motivated\, but their plan do
	esn't go asexpected. Asher runs into someone from his past and learns what
	has really been going on. Meanwhile\, Grace joins the searchcommittee for 
	a new a principal and has someone in mind for thejob.
DTSTART:20220308T010000Z
DTEND:20220308T020000Z
END:VEVENT
END:VCALENDAR
