BEGIN:VCALENDAR
VERSION:2.0
PRODID:-//InvisionCommunity Events 4.7.23//EN
METHOD:PUBLISH
CALSCALE:GREGORIAN
REFRESH-INTERVAL:PT15M
X-PUBLISHED-TTL:PT15M
X-WR-CALNAME:At My TV
NAME:At My TV
BEGIN:VTIMEZONE
TZID:Europe/London
TZURL:http://tzurl.org/zoneinfo/Europe/London
X-LIC-LOCATION:Europe/London
BEGIN:DAYLIGHT
TZOFFSETFROM:+0000
TZOFFSETTO:+0100
TZNAME:BST
DTSTART:20220327T020000Z
RRULE:FREQ=YEARLY;BYMONTH=3;BYDAY=-1SU
END:DAYLIGHT
BEGIN:STANDARD
TZOFFSETFROM:+0100
TZOFFSETTO:+0000
TZNAME:GMT
DTSTART:20221030T020000Z
RRULE:FREQ=YEARLY;BYMONTH=10;BYDAY=-1SU
END:STANDARD
END:VTIMEZONE
BEGIN:VEVENT
SUMMARY:The Great Australian Bake Off 6x7 - Dessert Week
DTSTAMP:20220224T083713Z
SEQUENCE:0
UID:138817-2-841ebed20eb198c4569419e99b7bf40a@themidnightzone.com
ORGANIZER;CN="Midnight":midnight@themidnightzone.com
DESCRIPTION:In Dessert Week\, our remaining amateur bakers show us their
	sweet tooth\, first creating a dreamy baked custard for theirSignature. In
	 their technical challenge\, they must replicateone of Matt Moran's most c
	herished recipes- the one thatstarted his first baking business- with a de
	licate RaspberryTart 2.0. For showstopper\, they take on the Instagram tre
	nd ofa dessert charcuterie board.
DTSTART:20220310T093000Z
DTEND:20220310T104000Z
END:VEVENT
END:VCALENDAR
