BEGIN:VCALENDAR
VERSION:2.0
PRODID:-//InvisionCommunity Events 4.7.23//EN
METHOD:PUBLISH
CALSCALE:GREGORIAN
REFRESH-INTERVAL:PT15M
X-PUBLISHED-TTL:PT15M
X-WR-CALNAME:At My TV
NAME:At My TV
BEGIN:VTIMEZONE
TZID:Europe/London
TZURL:http://tzurl.org/zoneinfo/Europe/London
X-LIC-LOCATION:Europe/London
BEGIN:DAYLIGHT
TZOFFSETFROM:+0000
TZOFFSETTO:+0100
TZNAME:BST
DTSTART:20220327T020000Z
RRULE:FREQ=YEARLY;BYMONTH=3;BYDAY=-1SU
END:DAYLIGHT
BEGIN:STANDARD
TZOFFSETFROM:+0100
TZOFFSETTO:+0000
TZNAME:GMT
DTSTART:20221030T020000Z
RRULE:FREQ=YEARLY;BYMONTH=10;BYDAY=-1SU
END:STANDARD
END:VTIMEZONE
BEGIN:VEVENT
SUMMARY:Adam Eats the 80s 1x3 - Food Court Firsts
DTSTAMP:20220301T083711Z
SEQUENCE:0
UID:139159-2-841ebed20eb198c4569419e99b7bf40a@themidnightzone.com
ORGANIZER;CN="Midnight":midnight@themidnightzone.com
DESCRIPTION:In the 80s\, everything happened at the mall\, and now Adamd
	iscovers the very first location of food court pioneer PandaExpress and sa
	mples unreleased\, early versions of their famousOrange Chicken. Then he'l
	l learn the secret to Cinnabon'sfamous cinnamon and take one of the most s
	uccessful kitchenappliances of the decade for a test drive.
DTSTART:20220307T030300Z
DTEND:20220307T033300Z
END:VEVENT
END:VCALENDAR
