BEGIN:VCALENDAR
VERSION:2.0
PRODID:-//InvisionCommunity Events 4.7.23//EN
METHOD:PUBLISH
CALSCALE:GREGORIAN
REFRESH-INTERVAL:PT15M
X-PUBLISHED-TTL:PT15M
X-WR-CALNAME:At My TV
NAME:At My TV
BEGIN:VTIMEZONE
TZID:Europe/London
TZURL:http://tzurl.org/zoneinfo/Europe/London
X-LIC-LOCATION:Europe/London
BEGIN:DAYLIGHT
TZOFFSETFROM:+0000
TZOFFSETTO:+0100
TZNAME:BST
DTSTART:20220327T020000Z
RRULE:FREQ=YEARLY;BYMONTH=3;BYDAY=-1SU
END:DAYLIGHT
BEGIN:STANDARD
TZOFFSETFROM:+0100
TZOFFSETTO:+0000
TZNAME:GMT
DTSTART:20221030T020000Z
RRULE:FREQ=YEARLY;BYMONTH=10;BYDAY=-1SU
END:STANDARD
END:VTIMEZONE
BEGIN:VEVENT
SUMMARY:Big Sky 2x13 - The Shipping News
DTSTAMP:20220311T083706Z
SEQUENCE:0
UID:139723-2-841ebed20eb198c4569419e99b7bf40a@themidnightzone.com
ORGANIZER;CN="Midnight":midnight@themidnightzone.com
DESCRIPTION:The kids may be free from the trouble they caused\, but theB
	hullars' reign continues as Jenny finds herself frustratinglystuck one ste
	p behind their crew's every move and Travisstruggles to maintain the balan
	cing act of his two lives.Elsewhere\, Cassie reels from her final interact
	ion with Ronaldand decides to take some time off\; meanwhile\, the syndica
	tebares its teeth at Wolf.
DTSTART:20220325T020000Z
DTEND:20220325T025900Z
END:VEVENT
END:VCALENDAR
