BEGIN:VCALENDAR
VERSION:2.0
PRODID:-//InvisionCommunity Events 4.7.23//EN
METHOD:PUBLISH
CALSCALE:GREGORIAN
REFRESH-INTERVAL:PT15M
X-PUBLISHED-TTL:PT15M
X-WR-CALNAME:At My TV
NAME:At My TV
BEGIN:VTIMEZONE
TZID:Europe/London
TZURL:http://tzurl.org/zoneinfo/Europe/London
X-LIC-LOCATION:Europe/London
BEGIN:DAYLIGHT
TZOFFSETFROM:+0000
TZOFFSETTO:+0100
TZNAME:BST
DTSTART:20220327T020000Z
RRULE:FREQ=YEARLY;BYMONTH=3;BYDAY=-1SU
END:DAYLIGHT
BEGIN:STANDARD
TZOFFSETFROM:+0100
TZOFFSETTO:+0000
TZNAME:GMT
DTSTART:20221030T020000Z
RRULE:FREQ=YEARLY;BYMONTH=10;BYDAY=-1SU
END:STANDARD
END:VTIMEZONE
BEGIN:VEVENT
SUMMARY:Restaurant: Impossible 20x13 - It's Not Rocket Science
DTSTAMP:20220311T083706Z
SEQUENCE:0
UID:139724-2-841ebed20eb198c4569419e99b7bf40a@themidnightzone.com
ORGANIZER;CN="Midnight":midnight@themidnightzone.com
DESCRIPTION:Daniel\, a former NASA physicist in Huntsville\, Ala.\, thou
	ghthe could wing it in the restaurant business. His soul foodspot\, Mizz J
	uju's\, has opened and closed multiple times\,never made money and has no 
	equipment. After 10 years offailures\, including a broken engagement and s
	pending hisparent's entire retirement savings\, Daniel needs Chef RobertIr
	vine's help to save his business\, rebuild his life and repayhis parents.
DTSTART:20220325T010000Z
DTEND:20220325T020000Z
END:VEVENT
END:VCALENDAR
