BEGIN:VCALENDAR
VERSION:2.0
PRODID:-//InvisionCommunity Events 4.7.23//EN
METHOD:PUBLISH
CALSCALE:GREGORIAN
REFRESH-INTERVAL:PT15M
X-PUBLISHED-TTL:PT15M
X-WR-CALNAME:At My TV
NAME:At My TV
BEGIN:VTIMEZONE
TZID:Europe/London
TZURL:http://tzurl.org/zoneinfo/Europe/London
X-LIC-LOCATION:Europe/London
BEGIN:DAYLIGHT
TZOFFSETFROM:+0000
TZOFFSETTO:+0100
TZNAME:BST
DTSTART:20220327T020000Z
RRULE:FREQ=YEARLY;BYMONTH=3;BYDAY=-1SU
END:DAYLIGHT
BEGIN:STANDARD
TZOFFSETFROM:+0100
TZOFFSETTO:+0000
TZNAME:GMT
DTSTART:20221030T020000Z
RRULE:FREQ=YEARLY;BYMONTH=10;BYDAY=-1SU
END:STANDARD
END:VTIMEZONE
BEGIN:VEVENT
SUMMARY:The Kitchen 30x13 - Greatest Recipies in History!
DTSTAMP:20220312T083706Z
SEQUENCE:0
UID:139780-2-841ebed20eb198c4569419e99b7bf40a@themidnightzone.com
ORGANIZER;CN="Midnight":midnight@themidnightzone.com
DESCRIPTION:The Kitchen hosts are cooking up their takes on the greatest
	recipes in history! Katie Lee Biegel takes us back in time withher dinner 
	party go-to\, Chicken Marbella\, and AlexGuarnaschelli throws together her
	 take on a seafood classic\,Crab Louis. Then\, the hosts share new ways to
	 use theirfavorite essential kitchen tools\, and Jeff Mauro takes on anico
	nic duo and makes the best-ever Grilled Cheese and CreamyTomato Soup. Geof
	frey Zakarian shows off a fabulous flambe withhis Crepe Suzette.
DTSTART:20220326T150000Z
DTEND:20220326T160000Z
END:VEVENT
END:VCALENDAR
