BEGIN:VCALENDAR
VERSION:2.0
PRODID:-//InvisionCommunity Events 4.7.23//EN
METHOD:PUBLISH
CALSCALE:GREGORIAN
REFRESH-INTERVAL:PT15M
X-PUBLISHED-TTL:PT15M
X-WR-CALNAME:Pogdesign
NAME:Pogdesign
BEGIN:VTIMEZONE
TZID:Europe/London
TZURL:http://tzurl.org/zoneinfo/Europe/London
X-LIC-LOCATION:Europe/London
BEGIN:DAYLIGHT
TZOFFSETFROM:+0000
TZOFFSETTO:+0100
TZNAME:BST
DTSTART:20220327T020000Z
RRULE:FREQ=YEARLY;BYMONTH=3;BYDAY=-1SU
END:DAYLIGHT
BEGIN:STANDARD
TZOFFSETFROM:+0100
TZOFFSETTO:+0000
TZNAME:GMT
DTSTART:20221030T020000Z
RRULE:FREQ=YEARLY;BYMONTH=10;BYDAY=-1SU
END:STANDARD
END:VTIMEZONE
BEGIN:VEVENT
SUMMARY:All American: Homecoming 1x6 - Family Affair
DTSTAMP:20220315T044004Z
SEQUENCE:0
UID:140025-3-841ebed20eb198c4569419e99b7bf40a@themidnightzone.com
ORGANIZER;CN="Midnight":midnight@themidnightzone.com
DESCRIPTION:Simone is excited that Baby Shay is coming to town\, butanot
	her visitor she wasn't expecting surprises her as well\,thanks to Amara. D
	amon struggles on the field\, while familydrama could threaten his new bon
	d with his mom. JR goes home totry to get to the bottom of what is going o
	n with his parents\,but not before he does something rash. Meanwhile\, Cam
	 helps topush Keisha to follow her dreams\, but her decision could ruinan 
	important relationship.
DTSTART:20220328T210000Z
DTEND:20220328T220000Z
END:VEVENT
END:VCALENDAR
