BEGIN:VCALENDAR
VERSION:2.0
PRODID:-//InvisionCommunity Events 4.7.23//EN
METHOD:PUBLISH
CALSCALE:GREGORIAN
REFRESH-INTERVAL:PT15M
X-PUBLISHED-TTL:PT15M
X-WR-CALNAME:Pogdesign
NAME:Pogdesign
BEGIN:VTIMEZONE
TZID:Europe/London
TZURL:http://tzurl.org/zoneinfo/Europe/London
X-LIC-LOCATION:Europe/London
BEGIN:DAYLIGHT
TZOFFSETFROM:+0000
TZOFFSETTO:+0100
TZNAME:BST
DTSTART:20220327T020000Z
RRULE:FREQ=YEARLY;BYMONTH=3;BYDAY=-1SU
END:DAYLIGHT
BEGIN:STANDARD
TZOFFSETFROM:+0100
TZOFFSETTO:+0000
TZNAME:GMT
DTSTART:20221030T020000Z
RRULE:FREQ=YEARLY;BYMONTH=10;BYDAY=-1SU
END:STANDARD
END:VTIMEZONE
BEGIN:VEVENT
SUMMARY:Blue Bloods 12x17 - Hidden Motive
DTSTAMP:20220319T044004Z
SEQUENCE:0
UID:140205-3-841ebed20eb198c4569419e99b7bf40a@themidnightzone.com
ORGANIZER;CN="Midnight":midnight@themidnightzone.com
DESCRIPTION:Frank is blindsided when Mayor Chase bypasses him with arequ
	est for Jamie to head his security detail. Also\, Danny andBaez investigat
	e the murder of a wealthy college student\;Eddie experiences tension with 
	her partner\, Badillo\, when shearrests an protestor against his wishes\; 
	and Anthony scramblesto help his half-brother when he fears money woes are
	 leadinghis sibling down the wrong path.
DTSTART:20220401T220000Z
DTEND:20220401T230000Z
END:VEVENT
END:VCALENDAR
