BEGIN:VCALENDAR
VERSION:2.0
PRODID:-//InvisionCommunity Events 4.7.23//EN
METHOD:PUBLISH
CALSCALE:GREGORIAN
REFRESH-INTERVAL:PT15M
X-PUBLISHED-TTL:PT15M
X-WR-CALNAME:Pogdesign
NAME:Pogdesign
BEGIN:VTIMEZONE
TZID:Europe/London
TZURL:http://tzurl.org/zoneinfo/Europe/London
X-LIC-LOCATION:Europe/London
BEGIN:DAYLIGHT
TZOFFSETFROM:+0000
TZOFFSETTO:+0100
TZNAME:BST
DTSTART:20220327T020000Z
RRULE:FREQ=YEARLY;BYMONTH=3;BYDAY=-1SU
END:DAYLIGHT
BEGIN:STANDARD
TZOFFSETFROM:+0100
TZOFFSETTO:+0000
TZNAME:GMT
DTSTART:20221030T020000Z
RRULE:FREQ=YEARLY;BYMONTH=10;BYDAY=-1SU
END:STANDARD
END:VTIMEZONE
BEGIN:VEVENT
SUMMARY:The Circus 7x5 - The Home Front
DTSTAMP:20220321T044003Z
SEQUENCE:0
UID:140294-3-841ebed20eb198c4569419e99b7bf40a@themidnightzone.com
ORGANIZER;CN="Midnight":midnight@themidnightzone.com
DESCRIPTION:The Circus tracks the dramatic developments out of the House
	committee investigating the forces behind the violent January 6insurrectio
	n. Jennifer Palmieri and Mark McKinnon speak withmembers of the committee 
	after voting to hold two of formerPresident Donald Trump's aides in contem
	pt\; Alex Wagner talkswith Bob Woodward and Robert Costa on their bombshel
	l reportingabout the White House call log from the day of the Capitolattac
	k\; and John Heilemann examines the growing pressure onthe Justice Departm
	ent to investigate Trump's activities.
DTSTART:20220403T200000Z
DTEND:20220403T203000Z
END:VEVENT
END:VCALENDAR
