BEGIN:VCALENDAR
VERSION:2.0
PRODID:-//InvisionCommunity Events 4.7.23//EN
METHOD:PUBLISH
CALSCALE:GREGORIAN
REFRESH-INTERVAL:PT15M
X-PUBLISHED-TTL:PT15M
X-WR-CALNAME:Pogdesign
NAME:Pogdesign
BEGIN:VTIMEZONE
TZID:Europe/London
TZURL:http://tzurl.org/zoneinfo/Europe/London
X-LIC-LOCATION:Europe/London
BEGIN:DAYLIGHT
TZOFFSETFROM:+0000
TZOFFSETTO:+0100
TZNAME:BST
DTSTART:20220327T020000Z
RRULE:FREQ=YEARLY;BYMONTH=3;BYDAY=-1SU
END:DAYLIGHT
BEGIN:STANDARD
TZOFFSETFROM:+0100
TZOFFSETTO:+0000
TZNAME:GMT
DTSTART:20221030T020000Z
RRULE:FREQ=YEARLY;BYMONTH=10;BYDAY=-1SU
END:STANDARD
END:VTIMEZONE
BEGIN:VEVENT
SUMMARY:Big Sky 2x15 - This Will Not Be Forgiven
DTSTAMP:20220325T044004Z
SEQUENCE:0
UID:140497-3-841ebed20eb198c4569419e99b7bf40a@themidnightzone.com
ORGANIZER;CN="Midnight":midnight@themidnightzone.com
DESCRIPTION:With her life on the line\, Jenny makes a violent decision t
	hatputs a Bhullar target on her back\; but as she closes in on thefamily\,
	 Veer questions his children's ability to lead andmakes a major personnel 
	decision that will change everything.Meanwhile\, a grieving father tears u
	p the town over his son'sdeath\; and Cassie returns\, ready for a fresh st
	art\,considering just how Lindor might factor into it.
DTSTART:20220407T220000Z
DTEND:20220407T230000Z
END:VEVENT
END:VCALENDAR
