BEGIN:VCALENDAR
VERSION:2.0
PRODID:-//InvisionCommunity Events 4.7.23//EN
METHOD:PUBLISH
CALSCALE:GREGORIAN
REFRESH-INTERVAL:PT15M
X-PUBLISHED-TTL:PT15M
X-WR-CALNAME:Pogdesign
NAME:Pogdesign
BEGIN:VTIMEZONE
TZID:Europe/London
TZURL:http://tzurl.org/zoneinfo/Europe/London
X-LIC-LOCATION:Europe/London
BEGIN:DAYLIGHT
TZOFFSETFROM:+0000
TZOFFSETTO:+0100
TZNAME:BST
DTSTART:20220327T020000Z
RRULE:FREQ=YEARLY;BYMONTH=3;BYDAY=-1SU
END:DAYLIGHT
BEGIN:STANDARD
TZOFFSETFROM:+0100
TZOFFSETTO:+0000
TZNAME:GMT
DTSTART:20221030T020000Z
RRULE:FREQ=YEARLY;BYMONTH=10;BYDAY=-1SU
END:STANDARD
END:VTIMEZONE
BEGIN:VEVENT
SUMMARY:Gentleman Jack 2x1 - Faith Is All
DTSTAMP:20220328T044003Z
SEQUENCE:0
UID:140675-3-841ebed20eb198c4569419e99b7bf40a@themidnightzone.com
ORGANIZER;CN="Midnight":midnight@themidnightzone.com
DESCRIPTION:Yorkshire\, 1834. A month on from their private marriagecere
	mony\, Ann Walker remains in York under the care of herdoctor while Anne L
	ister\, with fresh financial confidence andentrepreneurial vigour\, renova
	tes Shibden Hall in preparationfor her wife to move in.Learning of their p
	lan to co-habit\,Ann's protective tribe of relations are increasingly susp
	iciousof Anne's motives\, but they can't find the right words toexpress th
	eir fears about the nature of her relationship.Meanwhile\, as the couple p
	repare for a fabulous honeymoonabroad\, devastated Mariana Lawton's jealou
	sy signals moretrouble ahead.
DTSTART:20220410T220000Z
DTEND:20220410T230000Z
END:VEVENT
END:VCALENDAR
