BEGIN:VCALENDAR
VERSION:2.0
PRODID:-//InvisionCommunity Events 4.7.23//EN
METHOD:PUBLISH
CALSCALE:GREGORIAN
REFRESH-INTERVAL:PT15M
X-PUBLISHED-TTL:PT15M
X-WR-CALNAME:Pogdesign
NAME:Pogdesign
BEGIN:VTIMEZONE
TZID:Europe/London
TZURL:http://tzurl.org/zoneinfo/Europe/London
X-LIC-LOCATION:Europe/London
BEGIN:DAYLIGHT
TZOFFSETFROM:+0000
TZOFFSETTO:+0100
TZNAME:BST
DTSTART:20220327T020000Z
RRULE:FREQ=YEARLY;BYMONTH=3;BYDAY=-1SU
END:DAYLIGHT
BEGIN:STANDARD
TZOFFSETFROM:+0100
TZOFFSETTO:+0000
TZNAME:GMT
DTSTART:20221030T020000Z
RRULE:FREQ=YEARLY;BYMONTH=10;BYDAY=-1SU
END:STANDARD
END:VTIMEZONE
BEGIN:VEVENT
SUMMARY:The Equalizer 2x14 - Pulse
DTSTAMP:20220328T044003Z
SEQUENCE:0
UID:140690-3-841ebed20eb198c4569419e99b7bf40a@themidnightzone.com
ORGANIZER;CN="Midnight":midnight@themidnightzone.com
DESCRIPTION:McCall receives a desperate plea for help from her former CI
	Atrainee\, now a full-fledged agent\, that leads her into aconfrontation w
	ith Mason Quinn\, the most dangerous enemy fromher past in intelligence. I
	n need of confidential informationabout the agent's latest assignment\, Mc
	Call forms a tentativealliance with Carter Griffin\, a by-the-book CIA han
	dler.
DTSTART:20220410T200000Z
DTEND:20220410T210000Z
END:VEVENT
END:VCALENDAR
